Workbook

Sheet Sheet1
A1: 丰林县2026年高蛋白大豆补贴情况一览表
A2: 填报单位： 丰林县农业农村局 负责人签字：
A3: 序号 | B3: 姓名 | C3: 身份证号码 | D3: 一（折）卡通号码 | E3: 电话号码 | F3: 2026年种植高蛋白大豆面积（亩） | G3: 其中： | I3: 每亩金额 | J3: 补贴金额 | K3: 备注
G4: 自有耕地种植大豆面积（亩） | H4: 承租他人耕地种植大豆面积（亩）
B5: 丰林县合计 | F5: =SUM(F6:F247) -> 20420 | G5: =SUM(G6:G247) -> 19068 | H5: =SUM(H6:H247) -> 1352 | I5: 9.25 | J5: =SUM(J6:J247) -> 188885
A6: 1 | B6: 刘*涛 | C6: 230715********0136 | D6: 622823*********0766 | E6: 138****9958 | F6: 5 | G6: 5 | I6: 9.25 | J6: =F6*I6 -> 46.25 | K6: 红星镇
A7: 2 | B7: 王*明 | C7: 152122********2416 | D7: 622823*********9477 | E7: 152****0126 | F7: 50 | G7: 50 | I7: 9.25 | J7: =F7*I7 -> 462.5 | K7: 红星镇
A8: 3 | B8: 曹*国 | C8: 230715********021X | D8: 622823*********3273 | E8: 136****2188 | F8: 57 | G8: 57 | I8: 9.25 | J8: =F8*I8 -> 527.25 | K8: 红星镇
A9: 4 | B9: 柴*林 | C9: 230715********0210 | D9: 622823*********0579 | E9: 151****4324 | F9: 150 | G9: 150 | I9: 9.25 | J9: =F9*I9 -> 1387.5 | K9: 红星镇
A10: 5 | B10: 张*涛 | C10: 230715********021X | D10: 622823*********2774 | E10: 137****8267 | F10: 110 | G10: 110 | I10: 9.25 | J10: =F10*I10 -> 1017.5 | K10: 红星镇
A11: 6 | B11: 任*彬 | C11: 230715********0217 | D11: 622823*********4371 | E11: 182****1209 | F11: 87 | G11: 87 | I11: 9.25 | J11: =F11*I11 -> 804.75 | K11: 红星镇
A12: 7 | B12: 张*军 | C12: 230715********0154 | D12: 622823*********5875 | E12: 138****4581 | F12: 10 | G12: 10 | I12: 9.25 | J12: =F12*I12 -> 92.5 | K12: 红星镇
A13: 8 | B13: 付*波 | C13: 230715********0237 | D13: 622823*********2970 | E13: 182****3889 | F13: 5 | G13: 5 | I13: 9.25 | J13: =F13*I13 -> 46.25 | K13: 红星镇
A14: 9 | B14: 赵*良 | C14: 370829********491X | D14: 622823*********9972 | E14: 182****1138 | F14: 39 | G14: 39 | I14: 9.25 | J14: =F14*I14 -> 360.75 | K14: 红星镇
A15: 10 | B15: 车*龙 | C15: 230715********0112 | D15: 622823*********1779 | E15: 157****4993 | F15: 30 | G15: 30 | I15: 9.25 | J15: =F15*I15 -> 277.5 | K15: 红星镇
A16: 11 | B16: 于*江 | C16: 230715********0136 | D16: 622823*********3478 | E16: 138****8245 | F16: 40 | G16: 40 | I16: 9.25 | J16: =F16*I16 -> 370 | K16: 红星镇
A17: 12 | B17: 于*鸥 | C17: 132828********867X | D17: 622823*********4269 | E17: 187****5006 | F17: 100 | G17: 100 | I17: 9.25 | J17: =F17*I17 -> 925 | K17: 红星镇
... A27: 22 | B27: 杨*桐 | C27: 230715********0128 | D27: 622823*********0162 | E27: 183****4869 | F27: 120 | G27: 120 | I27: 9.25 | J27: =F27*I27 -> 1110 | K27: 红星镇
A28: 23 | B28: 辛*福 | C28: 230921********0611 | D28: 622823*********8877 | E28: 137****3268 | F28: 65 | G28: 65 | I28: =[1]汇总表!C$4 -> 9.25 | J28: =F28*I28 -> 601.25 | K28: 新青镇
A29: 24 | B29: 王*胜 | C29: 230621********0951 | D29: 622823*********4774 | E29: 188****0270 | F29: 100 | G29: 100 | I29: =[1]汇总表!C$4 -> 9.25 | J29: =F29*I29 -> 925 | K29: 新青镇
A30: 25 | B30: 肖*彬 | C30: 230707********0824 | D30: 622823*********5266 | E30: 183****0172 | F30: 140 | G30: 140 | I30: =[1]汇总表!C$4 -> 9.25 | J30: =F30*I30 -> 1295 | K30: 新青镇
A31: 26 | B31: 范*霞 | C31: 230707********0020 | D31: 622823*********7465 | E31: 138****0433 | F31: 38 | G31: 38 | I31: =[1]汇总表!C$4 -> 9.25 | J31: =F31*I31 -> 351.5 | K31: 新青镇
A32: 27 | B32: 安*滨 | C32: 230707********0311 | D32: 622823*********1773 | E32: 150****2610 | F32: 315 | G32: 315 | I32: =[1]汇总表!C$4 -> 9.25 | J32: =F32*I32 -> 2913.75 | K32: 新青镇
A33: 28 | B33: 安*超 | C33: 230707********031X | D33: 622823*********9879 | E33: 183****8081 | F33: 135 | G33: 135 | I33: =[1]汇总表!C$4 -> 9.25 | J33: =F33*I33 -> 1248.75 | K33: 新青镇
A34: 29 | B34: 李*娟 | C34: 23070********60325 | D34: 622823*********9272 | E34: 147****1419 | F34: 170 | G34: 170 | I34: =[1]汇总表!C$4 -> 9.25 | J34: =F34*I34 -> 1572.5 | K34: 新青镇
A35: 30 | B35: 王*昌 | C35: 230621********0979 | D35: 622823*********3971 | E35: 131****9786 | F35: 100 | G35: 100 | I35: =[1]汇总表!C$4 -> 9.25 | J35: =F35*I35 -> 925 | K35: 新青镇
A36: 31 | B36: 杨艳 | C36: 230707********0520 | D36: 622823*********2364 | E36: 137****4689 | F36: 8 | G36: 8 | I36: =[1]汇总表!C$4 -> 9.25 | J36: =F36*I36 -> 74 | K36: 新青镇
A37: 32 | B37: 刘*华 | C37: 230223********2349 | D37: 622823*********9272 | E37: 138****0691 | F37: 19 | G37: 19 | I37: =[1]汇总表!C$4 -> 9.25 | J37: =F37*I37 -> 175.75 | K37: 新青镇
A38: 33 | B38: 张*君 | C38: 230707********0258 | D38: 622823*********6963 | E38: 138****9740 | F38: 35 | G38: 35 | I38: =[1]汇总表!C$4 -> 9.25 | J38: =F38*I38 -> 323.75 | K38: 新青镇
A39: 34 | B39: 孟*宇 | C39: 230707********021X | D39: 622823*********4576 | E39: 136****0022 | F39: 15 | G39: 15 | I39: =[1]汇总表!C$4 -> 9.25 | J39: =F39*I39 -> 138.75 | K39: 新青镇
A40: 35 | B40: 田杰 | C40: 230710********0242 | D40: 622823*********7776 | E40: 138****2860 | F40: 30 | G40: 30 | I40: 9.25 | J40: =F40*I40 -> 277.5 | K40: 五营镇
A41: 36 | B41: 王*福 | C41: 230710********0434 | D41: 622823*********4574 | E41: 151****8879 | F41: 15 | G41: 15 | I41: 9.25 | J41: =F41*I41 -> 138.75 | K41: 五营镇
A42: 37 | B42: 刘*旺 | C42: 230710********0418 | D42: 622823*********3877 | E42: 136****3696 | F42: 33 | G42: 9 | H42: 24 | I42: 9.25 | J42: =F42*I42 -> 305.25 | K42: 五营镇
A43: 38 | B43: 孟*林 | C43: 230710********0419 | D43: 622823**********3274 | E43: 139****1548 | F43: 25 | G43: 25 | I43: 9.25 | J43: =F43*I43 -> 231.25 | K43: 五营镇
A44: 39 | B44: 金*生 | C44: 230710********0411 | D44: 622823*********2979 | E44: 138****1840 | F44: 65 | G44: 65 | I44: 9.25 | J44: =F44*I44 -> 601.25 | K44: 五营镇
A45: 40 | B45: 刘*艳 | C45: 232330********3244 | D45: 622823*********7973 | E45: 138****1840 | F45: 20 | G45: 20 | I45: 9.25 | J45: =F45*I45 -> 185 | K45: 五营镇
A46: 41 | B46: 杨*玉 | C46: 230710********023X | D46: 622823*********8376 | E46: 138****1438 | F46: 15 | G46: 15 | I46: 9.25 | J46: =F46*I46 -> 138.75 | K46: 五营镇
A47: 42 | B47: 张*霞 | C47: 230710********0040 | D47: 622823*********2474 | E47: 159****9385 | F47: 30 | G47: 30 | I47: 9.25 | J47: =F47*I47 -> 277.5 | K47: 五营镇
A48: 43 | B48: 孟*武 | C48: 230710********0215 | D48: 622823*********6670 | E48: 180****7196 | F48: 10 | G48: 10 | I48: 9.25 | J48: =F48*I48 -> 92.5 | K48: 五营镇
A49: 44 | B49: 李*海 | C49: 230710********0239 | D49: 622823*********0270 | E49: 138****4436 | F49: 185 | G49: 84 | H49: 101 | I49: 9.25 | J49: =F49*I49 -> 1711.25 | K49: 五营镇
...
