Workbook

Sheet Sheet1
A1: 丰林县2026年高蛋白大豆补贴情况一览表
A2: 填报单位： 丰林县农业农村局 负责人签字：
A3: 序号 | B3: 姓名 | C3: 身份证号码 | D3: 一（折）卡通号码 | E3: 电话号码 | F3: 2026年种植高蛋白大豆面积（亩） | G3: 其中： | I3: 每亩金额 | J3: 补贴金额 | K3: 备注
G4: 自有耕地种植大豆面积（亩） | H4: 承租他人耕地种植大豆面积（亩）
B5: 丰林县合计 | F5: =SUM(F6:F247) -> 20420 | G5: =SUM(G6:G247) -> 19068 | H5: =SUM(H6:H247) -> 1352 | I5: 9.25 | J5: =SUM(J6:J247) -> 188885
A6: 1 | B6: 刘*涛 | C6: 230715********0136 | D6: 622823*********0766 | E6: 138****9958 | F6: 5 | G6: 5 | I6: 9.25 | J6: =F6*I6 -> 46.25 | K6: 红星镇
A7: 2 | B7: 王*明 | C7: 152122********2416 | D7: 622823*********9477 | E7: 152****0126 | F7: 50 | G7: 50 | I7: 9.25 | J7: =F7*I7 -> 462.5 | K7: 红星镇
A8: 3 | B8: 曹*国 | C8: 230715********021X | D8: 622823*********3273 | E8: 136****2188 | F8: 57 | G8: 57 | I8: 9.25 | J8: =F8*I8 -> 527.25 | K8: 红星镇
A9: 4 | B9: 柴*林 | C9: 230715********0210 | D9: 622823*********0579 | E9: 151****4324 | F9: 150 | G9: 150 | I9: 9.25 | J9: =F9*I9 -> 1387.5 | K9: 红星镇
A10: 5 | B10: 张*涛 | C10: 230715********021X | D10: 622823*********2774 | E10: 137****8267 | F10: 110 | G10: 110 | I10: 9.25 | J10: =F10*I10 -> 1017.5 | K10: 红星镇
A11: 6 | B11: 任*彬 | C11: 230715********0217 | D11: 622823*********4371 | E11: 182****1209 | F11: 87 | G11: 87 | I11: 9.25 | J11: =F11*I11 -> 804.75 | K11: 红星镇
A12: 7 | B12: 张*军 | C12: 230715********0154 | D12: 622823*********5875 | E12: 138****4581 | F12: 10 | G12: 10 | I12: 9.25 | J12: =F12*I12 -> 92.5 | K12: 红星镇
A13: 8 | B13: 付*波 | C13: 230715********0237 | D13: 622823*********2970 | E13: 182****3889 | F13: 5 | G13: 5 | I13: 9.25 | J13: =F13*I13 -> 46.25 | K13: 红星镇
A14: 9 | B14: 赵*良 | C14: 370829********491X | D14: 622823*********9972 | E14: 182****1138 | F14: 39 | G14: 39 | I14: 9.25 | J14: =F14*I14 -> 360.75 | K14: 红星镇
A15: 10 | B15: 车*龙 | C15: 230715********0112 | D15: 622823*********1779 | E15: 157****4993 | F15: 30 | G15: 30 | I15: 9.25 | J15: =F15*I15 -> 277.5 | K15: 红星镇
A16: 11 | B16: 于*江 | C16: 230715********0136 | D16: 622823*********3478 | E16: 138****8245 | F16: 40 | G16: 40 | I16: 9.25 | J16: =F16*I16 -> 370 | K16: 红星镇
A17: 12 | B17: 于*鸥 | C17: 132828********867X | D17: 622823*********4269 | E17: 187****5006 | F17: 100 | G17: 100 | I17: 9.25 | J17: =F17*I17 -> 925 | K17: 红星镇
... A27: 22 | B27: 杨*桐 | C27: 230715********0128 | D27: 622823*********0162 | E27: 183****4869 | F27: 120 | G27: 120 | I27: 9.25 | J27: =F27*I27 -> 1110 | K27: 红星镇
A28: 23 | B28: 辛*福 | C28: 230921********0611 | D28: 622823*********8877 | E28: 137****3268 | F28: 65 | G28: 65 | I28: =[1]汇总表!C$4 -> 9.25 | J28: =F28*I28 -> 601.25 | K28: 新青镇
A29: 24 | B29: 王*胜 | C29: 230621********0951 | D29: 622823*********4774 | E29: 188****0270 | F29: 100 | G29: 100 | I29: =[1]汇总表!C$4 -> 9.25 | J29: =F29*I29 -> 925 | K29: 新青镇
A30: 25 | B30: 肖*彬 | C30: 230707********0824 | D30: 622823*********5266 | E30: 183****0172 | F30: 140 | G30: 140 | I30: =[1]汇总表!C$4 -> 9.25 | J30: =F30*I30 -> 1295 | K30: 新青镇
A31: 26 | B31: 范*霞 | C31: 230707********0020 | D31: 622823*********7465 | E31: 138****0433 | F31: 38 | G31: 38 | I31: =[1]汇总表!C$4 -> 9.25 | J31: =F31*I31 -> 351.5 | K31: 新青镇
A32: 27 | B32: 安*滨 | C32: 230707********0311 | D32: 622823*********1773 | E32: 150****2610 | F32: 315 | G32: 315 | I32: =[1]汇总表!C$4 -> 9.25 | J32: =F32*I32 -> 2913.75 | K32: 新青镇
A33: 28 | B33: 安*超 | C33: 230707********031X | D33: 622823*********9879 | E33: 183****8081 | F33: 135 | G33: 135 | I33: =[1]汇总表!C$4 -> 9.25 | J33: =F33*I33 -> 1248.75 | K33: 新青镇
A34: 29 | B34: 李*娟 | C34: 23070********60325 | D34: 622823*********9272 | E34: 147****1419 | F34: 170 | G34: 170 | I34: =[1]汇总表!C$4 -> 9.25 | J34: =F34*I34 -> 1572.5 | K34: 新青镇
A35: 30 | B35: 王*昌 | C35: 230621********0979 | D35: 622823*********3971 | E35: 131****9786 | F35: 100 | G35: 100 | I35: =[1]汇总表!C$4 -> 9.25 | J35: =F35*I35 -> 925 | K35: 新青镇
A36: 31 | B36: 杨艳 | C36: 230707********0520 | D36: 622823*********2364 | E36: 137****4689 | F36: 8 | G36: 8 | I36: =[1]汇总表!C$4 -> 9.25 | J36: =F36*I36 -> 74 | K36: 新青镇
A37: 32 | B37: 刘*华 | C37: 230223********2349 | D37: 622823*********9272 | E37: 138****0691 | F37: 19 | G37: 19 | I37: =[1]汇总表!C$4 -> 9.25 | J37: =F37*I37 -> 175.75 | K37: 新青镇
A38: 33 | B38: 张*君 | C38: 230707********0258 | D38: 622823*********6963 | E38: 138****9740 | F38: 35 | G38: 35 | I38: =[1]汇总表!C$4 -> 9.25 | J38: =F38*I38 -> 323.75 | K38: 新青镇
A39: 34 | B39: 孟*宇 | C39: 230707********021X | D39: 622823*********4576 | E39: 136****0022 | F39: 15 | G39: 15 | I39: =[1]汇总表!C$4 -> 9.25 | J39: =F39*I39 -> 138.75 | K39: 新青镇
A40: 35 | B40: 田杰 | C40: 230710********0242 | D40: 622823*********7776 | E40: 138****2860 | F40: 30 | G40: 30 | I40: 9.25 | J40: =F40*I40 -> 277.5 | K40: 五营镇
A41: 36 | B41: 王*福 | C41: 230710********0434 | D41: 622823*********4574 | E41: 151****8879 | F41: 15 | G41: 15 | I41: 9.25 | J41: =F41*I41 -> 138.75 | K41: 五营镇
A42: 37 | B42: 刘*旺 | C42: 230710********0418 | D42: 622823*********3877 | E42: 136****3696 | F42: 33 | G42: 9 | H42: 24 | I42: 9.25 | J42: =F42*I42 -> 305.25 | K42: 五营镇
A43: 38 | B43: 孟*林 | C43: 230710********0419 | D43: 622823**********3274 | E43: 139****1548 | F43: 25 | G43: 25 | I43: 9.25 | J43: =F43*I43 -> 231.25 | K43: 五营镇
A44: 39 | B44: 金*生 | C44: 230710********0411 | D44: 622823*********2979 | E44: 138****1840 | F44: 65 | G44: 65 | I44: 9.25 | J44: =F44*I44 -> 601.25 | K44: 五营镇
A45: 40 | B45: 刘*艳 | C45: 232330********3244 | D45: 622823*********7973 | E45: 138****1840 | F45: 20 | G45: 20 | I45: 9.25 | J45: =F45*I45 -> 185 | K45: 五营镇
A46: 41 | B46: 杨*玉 | C46: 230710********023X | D46: 622823*********8376 | E46: 138****1438 | F46: 15 | G46: 15 | I46: 9.25 | J46: =F46*I46 -> 138.75 | K46: 五营镇
A47: 42 | B47: 张*霞 | C47: 230710********0040 | D47: 622823*********2474 | E47: 159****9385 | F47: 30 | G47: 30 | I47: 9.25 | J47: =F47*I47 -> 277.5 | K47: 五营镇
A48: 43 | B48: 孟*武 | C48: 230710********0215 | D48: 622823*********6670 | E48: 180****7196 | F48: 10 | G48: 10 | I48: 9.25 | J48: =F48*I48 -> 92.5 | K48: 五营镇
A49: 44 | B49: 李*海 | C49: 230710********0239 | D49: 622823*********0270 | E49: 138****4436 | F49: 185 | G49: 84 | H49: 101 | I49: 9.25 | J49: =F49*I49 -> 1711.25 | K49: 五营镇
A50: 45 | B50: 张*良 | C50: 230707********0417 | D50: 621721*********4660 | E50: 152****7403 | F50: 55 | G50: 55 | I50: 9.25 | J50: =F50*I50 -> 508.75 | K50: 五营镇
A51: 46 | B51: 范*华 | C51: 232325********242X | D51: 622823*********2773 | E51: 138****4519 | F51: 10 | G51: 10 | I51: 9.25 | J51: =F51*I51 -> 92.5 | K51: 五营镇
A52: 47 | B52: 李*库 | C52: 232126********4292 | D52: 622823*********5775 | E52: 187****3986 | F52: 63 | G52: 63 | I52: 9.25 | J52: =F52*I52 -> 582.75 | K52: 五营镇
A53: 48 | B53: 李*晨 | C53: 231202********004X | D53: 622823*********1673 | E53: 187****3950 | F53: 9 | G53: 9 | I53: 9.25 | J53: =F53*I53 -> 83.25 | K53: 五营镇
A54: 49 | B54: 于*香 | C54: 230710********0426 | D54: 622823*********1872 | E54: 138****4615 | F54: 39 | G54: 39 | I54: 9.25 | J54: =F54*I54 -> 360.75 | K54: 五营镇
A55: 50 | B55: 马*俊 | C55: 230710********0419 | D55: 622823*********2771 | E55: 138****8030 | F55: 94 | G55: 94 | I55: 9.25 | J55: =F55*I55 -> 869.5 | K55: 五营镇
A56: 51 | B56: 于*芳 | C56: 230710********0444 | D56: 622823*********5879 | E56: 150****2791 | F56: 10 | G56: 10 | I56: 9.25 | J56: =F56*I56 -> 92.5 | K56: 五营镇
A57: 52 | B57: 安*芬 | C57: 230231********0649 | D57: 622823*********1070 | E57: 137****6625 | F57: 60 | G57: 60 | I57: 9.25 | J57: =F57*I57 -> 555 | K57: 五营镇
A58: 53 | B58: 田鹏 | C58: 230710********0219 | D58: 622823*********5379 | E58: 138****2860 | F58: 50 | G58: 50 | I58: 9.25 | J58: =F58*I58 -> 462.5 | K58: 五营镇
A59: 54 | B59: 王*波 | C59: 230710********0223 | D59: 621721*********9408 | E59: 138****9380 | F59: 75 | G59: 75 | I59: 9.25 | J59: =F59*I59 -> 693.75 | K59: 五营镇
A60: 55 | B60: 杨*兰 | C60: 230710********0223 | D60: 622823*********5471 | E60: 180****1391 | F60: 30 | G60: 30 | I60: 9.25 | J60: =F60*I60 -> 277.5 | K60: 五营镇
A61: 56 | B61: 车*有 | C61: 232324********6736 | D61: 622823*********9276 | E61: 138****7273 | F61: 20 | G61: 20 | I61: 9.25 | J61: =F61*I61 -> 185 | K61: 五营镇
A62: 57 | B62: 卫*君 | C62: 230710********0618 | D62: 622823*********5471 | E62: 131****9090 | F62: 60 | G62: 60 | I62: 9.25 | J62: =F62*I62 -> 555 | K62: 五营镇
A63: 58 | B63: 姜*富 | C63: 230710********0015 | D63: 622823*********1372 | E63: 138****7746 | F63: 230 | G63: 140 | H63: 90 | I63: 9.25 | J63: =F63*I63 -> 2127.5 | K63: 五营镇
A64: 59 | B64: 刘*波 | C64: 230710********0012 | D64: 622823*********0675 | E64: 136****3026 | F64: 10 | G64: 10 | I64: 9.25 | J64: =F64*I64 -> 92.5 | K64: 五营镇
A65: 60 | B65: 赵*瑞 | C65: 230710********0019 | D65: 622823*********7072 | E65: 137****6429 | F65: 20 | G65: 20 | I65: 9.25 | J65: =F65*I65 -> 185 | K65: 五营镇
A66: 61 | B66: 刘*旺 | C66: 230710********0418 | D66: 622823*********3877 | E66: 136****3696 | F66: 160 | G66: 54 | H66: 106 | I66: 9.25 | J66: =F66*I66 -> 1480 | K66: 星龙村
A67: 62 | B67: 刘*河 | C67: 230710********0419 | D67: 622823*********4173 | E67: 138****4298 | F67: 99 | G67: 62 | H67: 37 | I67: 9.25 | J67: =F67*I67 -> 915.75 | K67: 星龙村
A68: 63 | B68: 党臣 | C68: 230710********0612 | D68: 622823*********8273 | E68: 156****1369 | F68: 5 | G68: 5 | I68: 9.25 | J68: =F68*I68 -> 46.25 | K68: 跃进村
A69: 64 | B69: 王*才 | C69: 230710********0058 | D69: 622823*********8778 | E69: 138****4640 | F69: 30 | G69: 30 | I69: 9.25 | J69: =F69*I69 -> 277.5 | K69: 跃进村
A70: 65 | B70: 李*云 | C70: 230710********0044 | D70: 621336*********6261 | E70: 152****7511 | F70: 20 | G70: 4 | H70: 16 | I70: 9.25 | J70: =F70*I70 -> 185 | K70: 跃进村
A71: 66 | B71: 车*臣 | C71: 230710********0014 | D71: 622823*********1673 | E71: 133****1961 | F71: 80 | G71: 3 | H71: 77 | I71: 9.25 | J71: =F71*I71 -> 740 | K71: 跃进村
A72: 67 | B72: 王*学 | C72: 230715********0018 | D72: 622823*********1962 | E72: 188****0032 | F72: 30 | G72: 30 | I72: 9.25 | J72: =F72*I72 -> 277.5 | K72: 跃进村
A73: 68 | B73: 于*义 | C73: 230710********0010 | D73: 622823*********8877 | E73: 188****9780 | F73: 23 | G73: 23 | I73: 9.25 | J73: =F73*I73 -> 212.75 | K73: 跃进村
A74: 69 | B74: 张*玉 | C74: 230710********0010 | D74: 622823*********3273 | E74: 136****2977 | F74: 46 | G74: 46 | I74: 9.25 | J74: =F74*I74 -> 425.5 | K74: 跃进村
A75: 70 | B75: 鹿*洪 | C75: 230715********0114 | D75: 622823*********4767 | E75: 137****6199 | F75: 361 | G75: 361 | I75: 9.25 | J75: =F75*I75 -> 3339.25 | K75: 库斯特
A76: 71 | B76: 何*泉 | C76: 230715********0017 | D76: 622823*********9071 | E76: 137****3232 | F76: 1330 | G76: 1330 | I76: 9.25 | J76: =F76*I76 -> 12302.5 | K76: 库斯特
A77: 72 | B77: 张*华 | C77: 230715********0122 | D77: 622823*********6772 | E77: 138****5458 | F77: 20 | G77: 20 | I77: 9.25 | J77: =F77*I77 -> 185 | K77: 汤北
A78: 73 | B78: 司*超 | C78: 230715********0319 | D78: 622823*********5479 | E78: 136****2220 | F78: 127 | G78: 127 | I78: 9.25 | J78: =F78*I78 -> 1174.75 | K78: 汤北
A79: 74 | B79: 秦*兰 | C79: 230715********0225 | D79: 622823*********2678 | E79: 152****9685 | F79: 15 | G79: 15 | I79: 9.25 | J79: =F79*I79 -> 138.75 | K79: 汤北
A80: 75 | B80: 王*平 | C80: 230715********0245 | D80: 622823*********4575 | E80: 138****4009 | F80: 20 | G80: 20 | I80: 9.25 | J80: =F80*I80 -> 185 | K80: 汤洪岭
A81: 76 | B81: 董*军 | C81: 230715********0212 | D81: 622823*********9671 | E81: 138****3462 | F81: 20 | G81: 20 | I81: 9.25 | J81: =F81*I81 -> 185 | K81: 清水河
A82: 77 | B82: 杜*忠 | C82: 230715********021X | D82: 622823*********1760 | E82: 182****1186 | F82: 15 | G82: 15 | I82: 9.25 | J82: =F82*I82 -> 138.75 | K82: 清水河
A83: 78 | B83: 冯*利 | C83: 230715********0219 | D83: 622823*********3370 | E83: 152****6634 | F83: 30 | G83: 30 | I83: 9.25 | J83: =F83*I83 -> 277.5 | K83: 清水河
... A108: 103 | B108: 李*国 | C108: 230715********0214 | D108: 622823*********5876 | E108: 137****3992 | F108: 5 | G108: 5 | I108: 9.25 | J108: =F108*I108 -> 46.25 | K108: 五星河
A109: 104 | B109: 杜*海 | C109: 230715********0211 | D109: 622823*********1271 | E109: 137****2872 | F109: 180 | G109: 40 | H109: 140 | I109: 9.25 | J109: =F109*I109 -> 1665 | K109: 五星河
A110: 105 | B110: 王*英 | C110: 230715********0120 | D110: 622823*********1365 | E110: 183****1608 | F110: 55 | G110: 55 | I110: 9.25 | J110: =F110*I110 -> 508.75 | K110: 红星
A111: 106 | B111: 王*英 | C111: 230715********0120 | D111: 622823*********1365 | E111: 183****1608 | F111: 20 | G111: 20 | I111: 9.25 | J111: =F111*I111 -> 185 | K111: 红星
A112: 107 | B112: 王*彦 | C112: 230715********0023 | D112: 622823*********3675 | E112: 152****4633 | F112: 20 | G112: 20 | I112: 9.25 | J112: =F112*I112 -> 185 | K112: 红星
A113: 108 | B113: 邓*楠 | C113: 230715********0021 | D113: 622823*********3872 | E113: 138****3052 | F113: 5 | G113: 5 | I113: 9.25 | J113: =F113*I113 -> 46.25 | K113: 红星
A114: 109 | B114: 王*兰 | C114: 230715********0223 | D114: 622823*********5878 | E114: 137****2270 | F114: 80 | G114: 80 | I114: 9.25 | J114: =F114*I114 -> 740 | K114: 红星
A115: 110 | B115: 李宝 | C115: 230708********0011 | D115: 622823*********1963 | E115: 186****0486 | F115: 30 | G115: 30 | I115: 9.25 | J115: =F115*I115 -> 277.5 | K115: 红星
A116: 111 | B116: 魏*岗 | C116: 230715********0019 | D116: 622823*********8375 | E116: 137****7169 | F116: 4 | G116: 4 | I116: 9.25 | J116: =F116*I116 -> 37 | K116: 红星
A117: 112 | B117: 李*义 | C117: 230715********0110 | D117: 622823*********4074 | E117: 137****3453 | F117: 18 | G117: 18 | I117: 9.25 | J117: =F117*I117 -> 166.5 | K117: 红星
A118: 113 | B118: 张*军 | C118: 230715********0154 | D118: 622823*********5875 | E118: 138****4581 | F118: 39 | G118: 39 | I118: 9.25 | J118: =F118*I118 -> 360.75 | K118: 红星
A119: 114 | B119: 张*涛 | C119: 230715********021X | D119: 622823*********5564 | E119: 137****8267 | F119: 146 | G119: 146 | I119: 9.25 | J119: =F119*I119 -> 1350.5 | K119: 红星
A120: 115 | B120: 李*远 | C120: 230715********0115 | D120: 622823*********7378 | E120: 138****8163 | F120: 10 | G120: 10 | I120: 9.25 | J120: =F120*I120 -> 92.5 | K120: 红星
A121: 116 | B121: 葛*杰 | C121: 230715********0113 | D121: 622823*********0578 | E121: 139****0170 | F121: 130 | G121: 130 | I121: 9.25 | J121: =F121*I121 -> 1202.5 | K121: 二杨
... A156: 151 | B156: 井*刚 | C156: 230715********0114 | D156: 622823*********1675 | E156: 138****2294 | F156: 25 | G156: 25 | I156: 9.25 | J156: =F156*I156 -> 231.25 | K156: 三杨
A157: 152 | B157: 韩*彬 | C157: 230715********0110 | D157: 622823*********7972 | E157: 139****7640 | F157: 30 | G157: 30 | I157: 9.25 | J157: 277.5 | K157: 三杨
A158: 153 | B158: 谢*利 | C158: 230707********0318 | D158: 622823*********2076 | E158: 138****4351 | F158: 23 | G158: 23 | I158: 9.25 | J158: 212.75 | K158: 红林
A159: 154 | B159: 苗*信 | C159: 230707********0310 | D159: 622823*********8662 | E159: 185****2400 | F159: 23 | G159: 23 | I159: 9.25 | J159: 212.75 | K159: 红林
A160: 155 | B160: 孟*宇 | C160: 230707********021X | D160: 622823*********4576 | E160: 137****1737 | F160: 40 | G160: 40 | I160: 9.25 | J160: 370 | K160: 红林
A161: 156 | B161: 朱*新 | C161: 230707********031X | D161: 622823*********3673 | E161: 138****1297 | F161: 85 | G161: 85 | I161: 9.25 | J161: 786.25 | K161: 红林
A162: 157 | B162: 丁*林 | C162: 230707********0311 | D162: 622823*********3470 | E162: 138****3082 | F162: 45 | G162: 45 | I162: 9.25 | J162: 416.25 | K162: 水源
A163: 158 | B163: 朱*忠 | C163: 230707********0312 | D163: 622823*********3973 | E163: 138****4427 | F163: 45 | G163: 45 | I163: 9.25 | J163: 416.25 | K163: 水源
A164: 159 | B164: 张*东 | C164: 230707********0311 | D164: 622823*********6279 | E164: 138****3205 | F164: 50 | G164: 50 | I164: 9.25 | J164: 462.5 | K164: 水源
A165: 160 | B165: 陈*花 | C165: 230707********0326 | D165: 622823*********3577 | E165: 138****8286 | F165: 105 | G165: 105 | I165: 9.25 | J165: 971.25 | K165: 水源
A166: 161 | B166: 王琪 | C166: 230707********0328 | D166: 622823*********2976 | E166: 150****2591 | F166: 62 | G166: 62 | I166: 9.25 | J166: 573.5 | K166: 水源
A167: 162 | B167: 邹*峰 | C167: 230722********1212 | D167: 623516*********7350 | E167: 185****1267 | F167: 270 | G167: 135 | H167: 135 | I167: 9.25 | J167: 2497.5 | K167: 水源
...
